BEGIN:VCALENDAR
VERSION:2.0
PRODID:-//Realschule Plus - ECPv6.15.20//NONSGML v1.0//EN
CALSCALE:GREGORIAN
METHOD:PUBLISH
X-WR-CALNAME:Realschule Plus
X-ORIGINAL-URL:https://www.realschule-rennerod.de
X-WR-CALDESC:Veranstaltungen für Realschule Plus
REFRESH-INTERVAL;VALUE=DURATION:PT1H
X-Robots-Tag:noindex
X-PUBLISHED-TTL:PT1H
BEGIN:VTIMEZONE
TZID:Europe/Berlin
BEGIN:DAYLIGHT
TZOFFSETFROM:+0100
TZOFFSETTO:+0200
TZNAME:CEST
DTSTART:20250330T010000
END:DAYLIGHT
BEGIN:STANDARD
TZOFFSETFROM:+0200
TZOFFSETTO:+0100
TZNAME:CET
DTSTART:20251026T010000
END:STANDARD
BEGIN:DAYLIGHT
TZOFFSETFROM:+0100
TZOFFSETTO:+0200
TZNAME:CEST
DTSTART:20260329T010000
END:DAYLIGHT
BEGIN:STANDARD
TZOFFSETFROM:+0200
TZOFFSETTO:+0100
TZNAME:CET
DTSTART:20261025T010000
END:STANDARD
BEGIN:DAYLIGHT
TZOFFSETFROM:+0100
TZOFFSETTO:+0200
TZNAME:CEST
DTSTART:20270328T010000
END:DAYLIGHT
BEGIN:STANDARD
TZOFFSETFROM:+0200
TZOFFSETTO:+0100
TZNAME:CET
DTSTART:20271031T010000
END:STANDARD
END:VTIMEZONE
BEGIN:VEVENT
DTSTART;VALUE=DATE:20260204
DTEND;VALUE=DATE:20260306
DTSTAMP:20260421T225930
CREATED:20251128T064933Z
LAST-MODIFIED:20251128T064933Z
UID:10000162-1770163200-1772755199@www.realschule-rennerod.de
SUMMARY:Anmeldung Klasse 5 (telefonische Terminvereinbarung)
DESCRIPTION:
URL:https://www.realschule-rennerod.de/termin/anmeldung-klasse-5-telefonische-terminvereinbarung/
END:VEVENT
BEGIN:VEVENT
DTSTART;VALUE=DATE:20260216
DTEND;VALUE=DATE:20260221
DTSTAMP:20260421T225930
CREATED:20251128T065116Z
LAST-MODIFIED:20251128T065116Z
UID:10000165-1771200000-1771631999@www.realschule-rennerod.de
SUMMARY:Unterrichtsfrei Karnevalswoche
DESCRIPTION:
URL:https://www.realschule-rennerod.de/termin/unterrichtsfrei-karnevalswoche/
END:VEVENT
BEGIN:VEVENT
DTSTART;VALUE=DATE:20260216
DTEND;VALUE=DATE:20260221
DTSTAMP:20260421T225930
CREATED:20260212T124305Z
LAST-MODIFIED:20260212T124305Z
UID:10000175-1771200000-1771631999@www.realschule-rennerod.de
SUMMARY:Bewegliche Ferientage - Ausgleich Tag der offenen Tür
DESCRIPTION:Schule und Sekretariat sind geschlossen
URL:https://www.realschule-rennerod.de/termin/bewegliche-ferientage-ausgleich-tag-der-offenen-tuer/
END:VEVENT
END:VCALENDAR