BEGIN:VCALENDAR
VERSION:2.0
PRODID:-//Realschule Plus - ECPv6.15.20//NONSGML v1.0//EN
CALSCALE:GREGORIAN
METHOD:PUBLISH
X-ORIGINAL-URL:https://www.realschule-rennerod.de
X-WR-CALDESC:Veranstaltungen für Realschule Plus
REFRESH-INTERVAL;VALUE=DURATION:PT1H
X-Robots-Tag:noindex
X-PUBLISHED-TTL:PT1H
BEGIN:VTIMEZONE
TZID:Europe/Berlin
BEGIN:DAYLIGHT
TZOFFSETFROM:+0100
TZOFFSETTO:+0200
TZNAME:CEST
DTSTART:20250330T010000
END:DAYLIGHT
BEGIN:STANDARD
TZOFFSETFROM:+0200
TZOFFSETTO:+0100
TZNAME:CET
DTSTART:20251026T010000
END:STANDARD
BEGIN:DAYLIGHT
TZOFFSETFROM:+0100
TZOFFSETTO:+0200
TZNAME:CEST
DTSTART:20260329T010000
END:DAYLIGHT
BEGIN:STANDARD
TZOFFSETFROM:+0200
TZOFFSETTO:+0100
TZNAME:CET
DTSTART:20261025T010000
END:STANDARD
BEGIN:DAYLIGHT
TZOFFSETFROM:+0100
TZOFFSETTO:+0200
TZNAME:CEST
DTSTART:20270328T010000
END:DAYLIGHT
BEGIN:STANDARD
TZOFFSETFROM:+0200
TZOFFSETTO:+0100
TZNAME:CET
DTSTART:20271031T010000
END:STANDARD
END:VTIMEZONE
BEGIN:VEVENT
DTSTART;VALUE=DATE:20260204
DTEND;VALUE=DATE:20260306
DTSTAMP:20260421T212256
CREATED:20251128T064933Z
LAST-MODIFIED:20251128T064933Z
UID:10000162-1770163200-1772755199@www.realschule-rennerod.de
SUMMARY:Anmeldung Klasse 5 (telefonische Terminvereinbarung)
DESCRIPTION:
URL:https://www.realschule-rennerod.de/termin/anmeldung-klasse-5-telefonische-terminvereinbarung/
END:VEVENT
BEGIN:VEVENT
DTSTART;VALUE=DATE:20260207
DTEND;VALUE=DATE:20260215
DTSTAMP:20260421T212256
CREATED:20251128T065004Z
LAST-MODIFIED:20251128T065004Z
UID:10000163-1770422400-1771113599@www.realschule-rennerod.de
SUMMARY:Skifreizeit Hirschegg
DESCRIPTION:
URL:https://www.realschule-rennerod.de/termin/skifreizeit-hirschegg/
END:VEVENT
BEGIN:VEVENT
DTSTART;TZID=Europe/Berlin:20260209T080000
DTEND;TZID=Europe/Berlin:20260209T130000
DTSTAMP:20260421T212256
CREATED:20260206T121045Z
LAST-MODIFIED:20260206T121045Z
UID:10000169-1770624000-1770642000@www.realschule-rennerod.de
SUMMARY:Eislaufen Diez für alle - kein GTS
DESCRIPTION:
URL:https://www.realschule-rennerod.de/termin/eislaufen-diez-fuer-alle-kein-gts/
END:VEVENT
BEGIN:VEVENT
DTSTART;VALUE=DATE:20260212
DTEND;VALUE=DATE:20260213
DTSTAMP:20260421T212256
CREATED:20260212T123938Z
LAST-MODIFIED:20260212T123938Z
UID:10000171-1770854400-1770940799@www.realschule-rennerod.de
SUMMARY:Schulzahnarzt
DESCRIPTION:gilt nur für vereinzelte Schülerinnen und Schüler der Klassenstufe 6
URL:https://www.realschule-rennerod.de/termin/schulzahnarzt/
END:VEVENT
BEGIN:VEVENT
DTSTART;TZID=Europe/Berlin:20260212T080000
DTEND;TZID=Europe/Berlin:20260212T130000
DTSTAMP:20260421T212256
CREATED:20251128T065042Z
LAST-MODIFIED:20251128T065042Z
UID:10000164-1770883200-1770901200@www.realschule-rennerod.de
SUMMARY:Berufeparcours 9 B-Zweig
DESCRIPTION:
URL:https://www.realschule-rennerod.de/termin/berufeparcours-9-b-zweig/
END:VEVENT
END:VCALENDAR