BEGIN:VCALENDAR
VERSION:2.0
PRODID:-//Realschule Plus - ECPv6.15.20//NONSGML v1.0//EN
CALSCALE:GREGORIAN
METHOD:PUBLISH
X-ORIGINAL-URL:https://www.realschule-rennerod.de
X-WR-CALDESC:Veranstaltungen für Realschule Plus
REFRESH-INTERVAL;VALUE=DURATION:PT1H
X-Robots-Tag:noindex
X-PUBLISHED-TTL:PT1H
BEGIN:VTIMEZONE
TZID:Europe/Berlin
BEGIN:DAYLIGHT
TZOFFSETFROM:+0100
TZOFFSETTO:+0200
TZNAME:CEST
DTSTART:20240331T010000
END:DAYLIGHT
BEGIN:STANDARD
TZOFFSETFROM:+0200
TZOFFSETTO:+0100
TZNAME:CET
DTSTART:20241027T010000
END:STANDARD
BEGIN:DAYLIGHT
TZOFFSETFROM:+0100
TZOFFSETTO:+0200
TZNAME:CEST
DTSTART:20250330T010000
END:DAYLIGHT
BEGIN:STANDARD
TZOFFSETFROM:+0200
TZOFFSETTO:+0100
TZNAME:CET
DTSTART:20251026T010000
END:STANDARD
BEGIN:DAYLIGHT
TZOFFSETFROM:+0100
TZOFFSETTO:+0200
TZNAME:CEST
DTSTART:20260329T010000
END:DAYLIGHT
BEGIN:STANDARD
TZOFFSETFROM:+0200
TZOFFSETTO:+0100
TZNAME:CET
DTSTART:20261025T010000
END:STANDARD
END:VTIMEZONE
BEGIN:VEVENT
DTSTART;VALUE=DATE:20251215
DTEND;VALUE=DATE:20251218
DTSTAMP:20260421T174856
CREATED:20251007T073435Z
LAST-MODIFIED:20251007T073741Z
UID:10000145-1765756800-1766015999@www.realschule-rennerod.de
SUMMARY:Projekttage
DESCRIPTION:
URL:https://www.realschule-rennerod.de/termin/herbstferien-2/
END:VEVENT
BEGIN:VEVENT
DTSTART;TZID=Europe/Berlin:20251218T150000
DTEND;TZID=Europe/Berlin:20251218T180000
DTSTAMP:20260421T174856
CREATED:20251128T064346Z
LAST-MODIFIED:20251210T120954Z
UID:10000153-1766070000-1766080800@www.realschule-rennerod.de
SUMMARY:Schulfest und Weihnachtsmarkt
DESCRIPTION:
URL:https://www.realschule-rennerod.de/termin/schulfest-und-weihnachtsmarkt/
END:VEVENT
END:VCALENDAR