BEGIN:VCALENDAR
VERSION:2.0
PRODID:-//Realschule Plus - ECPv6.15.20//NONSGML v1.0//EN
CALSCALE:GREGORIAN
METHOD:PUBLISH
X-ORIGINAL-URL:https://www.realschule-rennerod.de
X-WR-CALDESC:Veranstaltungen für Realschule Plus
REFRESH-INTERVAL;VALUE=DURATION:PT1H
X-Robots-Tag:noindex
X-PUBLISHED-TTL:PT1H
BEGIN:VTIMEZONE
TZID:Europe/Berlin
BEGIN:DAYLIGHT
TZOFFSETFROM:+0100
TZOFFSETTO:+0200
TZNAME:CEST
DTSTART:20240331T010000
END:DAYLIGHT
BEGIN:STANDARD
TZOFFSETFROM:+0200
TZOFFSETTO:+0100
TZNAME:CET
DTSTART:20241027T010000
END:STANDARD
BEGIN:DAYLIGHT
TZOFFSETFROM:+0100
TZOFFSETTO:+0200
TZNAME:CEST
DTSTART:20250330T010000
END:DAYLIGHT
BEGIN:STANDARD
TZOFFSETFROM:+0200
TZOFFSETTO:+0100
TZNAME:CET
DTSTART:20251026T010000
END:STANDARD
BEGIN:DAYLIGHT
TZOFFSETFROM:+0100
TZOFFSETTO:+0200
TZNAME:CEST
DTSTART:20260329T010000
END:DAYLIGHT
BEGIN:STANDARD
TZOFFSETFROM:+0200
TZOFFSETTO:+0100
TZNAME:CET
DTSTART:20261025T010000
END:STANDARD
END:VTIMEZONE
BEGIN:VEVENT
DTSTART;VALUE=DATE:20250818
DTEND;VALUE=DATE:20250830
DTSTAMP:20260421T101727
CREATED:20250624T092104Z
LAST-MODIFIED:20250813T074007Z
UID:10000141-1755475200-1756511999@www.realschule-rennerod.de
SUMMARY:Kein GTS (1. und 2. Schulwoche)
DESCRIPTION:Aus organisatorischen Gründen startet der GTS- Unterricht erst ab der 3. Schulwoche. \nDie Notfallbetreuung wird eingerichtet – bitte im Sekretariat anmelden.
URL:https://www.realschule-rennerod.de/termin/kein-gts-erste-schulwoche/
END:VEVENT
BEGIN:VEVENT
DTSTART;TZID=Europe/Berlin:20250818T103000
DTEND;TZID=Europe/Berlin:20250818T110000
DTSTAMP:20260421T101727
CREATED:20250624T091653Z
LAST-MODIFIED:20250624T091653Z
UID:10000137-1755513000-1755514800@www.realschule-rennerod.de
SUMMARY:Einschulung Klasse 5 (Kath. Kirche)
DESCRIPTION:
URL:https://www.realschule-rennerod.de/termin/einschulung-klasse-5-kath-kirche-2/
END:VEVENT
BEGIN:VEVENT
DTSTART;TZID=Europe/Berlin:20250818T112000
DTEND;TZID=Europe/Berlin:20250818T123000
DTSTAMP:20260421T101727
CREATED:20250624T091745Z
LAST-MODIFIED:20250624T091745Z
UID:10000138-1755516000-1755520200@www.realschule-rennerod.de
SUMMARY:Einschulungsfeier Klasse 5 (Aula)
DESCRIPTION:
URL:https://www.realschule-rennerod.de/termin/einschulungsfeier-klasse-5-aula/
END:VEVENT
END:VCALENDAR