BEGIN:VCALENDAR
VERSION:2.0
PRODID:-//Realschule Plus - ECPv6.15.20//NONSGML v1.0//EN
CALSCALE:GREGORIAN
METHOD:PUBLISH
X-ORIGINAL-URL:https://www.realschule-rennerod.de
X-WR-CALDESC:Veranstaltungen für Realschule Plus
REFRESH-INTERVAL;VALUE=DURATION:PT1H
X-Robots-Tag:noindex
X-PUBLISHED-TTL:PT1H
BEGIN:VTIMEZONE
TZID:Europe/Berlin
BEGIN:DAYLIGHT
TZOFFSETFROM:+0100
TZOFFSETTO:+0200
TZNAME:CEST
DTSTART:20240331T010000
END:DAYLIGHT
BEGIN:STANDARD
TZOFFSETFROM:+0200
TZOFFSETTO:+0100
TZNAME:CET
DTSTART:20241027T010000
END:STANDARD
BEGIN:DAYLIGHT
TZOFFSETFROM:+0100
TZOFFSETTO:+0200
TZNAME:CEST
DTSTART:20250330T010000
END:DAYLIGHT
BEGIN:STANDARD
TZOFFSETFROM:+0200
TZOFFSETTO:+0100
TZNAME:CET
DTSTART:20251026T010000
END:STANDARD
BEGIN:DAYLIGHT
TZOFFSETFROM:+0100
TZOFFSETTO:+0200
TZNAME:CEST
DTSTART:20260329T010000
END:DAYLIGHT
BEGIN:STANDARD
TZOFFSETFROM:+0200
TZOFFSETTO:+0100
TZNAME:CET
DTSTART:20261025T010000
END:STANDARD
END:VTIMEZONE
BEGIN:VEVENT
DTSTART;VALUE=DATE:20250324
DTEND;VALUE=DATE:20250412
DTSTAMP:20260421T011023
CREATED:20250310T100112Z
LAST-MODIFIED:20250310T100112Z
UID:10000118-1742774400-1744415999@www.realschule-rennerod.de
SUMMARY:Praktikum (8 B- Zweig)
DESCRIPTION:
URL:https://www.realschule-rennerod.de/termin/praktikum-8-b-zweig/
END:VEVENT
BEGIN:VEVENT
DTSTART;VALUE=DATE:20250403
DTEND;VALUE=DATE:20250404
DTSTAMP:20260421T011023
CREATED:20250310T100222Z
LAST-MODIFIED:20250310T100222Z
UID:10000120-1743638400-1743724799@www.realschule-rennerod.de
SUMMARY:Girl´s & Boy- Day (freiwillig Kl. 7)
DESCRIPTION:
URL:https://www.realschule-rennerod.de/termin/girls-boy-day-freiwillig-kl-7/
END:VEVENT
BEGIN:VEVENT
DTSTART;TZID=Europe/Berlin:20250403T080000
DTEND;TZID=Europe/Berlin:20250403T130000
DTSTAMP:20260421T011023
CREATED:20250310T100252Z
LAST-MODIFIED:20250310T100252Z
UID:10000121-1743667200-1743685200@www.realschule-rennerod.de
SUMMARY:Verkehrswacht Abschlussklassen
DESCRIPTION:
URL:https://www.realschule-rennerod.de/termin/verkehrswacht-abschlussklassen/
END:VEVENT
END:VCALENDAR