BEGIN:VCALENDAR
VERSION:2.0
PRODID:-//Realschule Plus - ECPv6.15.20//NONSGML v1.0//EN
CALSCALE:GREGORIAN
METHOD:PUBLISH
X-WR-CALNAME:Realschule Plus
X-ORIGINAL-URL:https://www.realschule-rennerod.de
X-WR-CALDESC:Veranstaltungen für Realschule Plus
REFRESH-INTERVAL;VALUE=DURATION:PT1H
X-Robots-Tag:noindex
X-PUBLISHED-TTL:PT1H
BEGIN:VTIMEZONE
TZID:Europe/Berlin
BEGIN:DAYLIGHT
TZOFFSETFROM:+0100
TZOFFSETTO:+0200
TZNAME:CEST
DTSTART:20230326T010000
END:DAYLIGHT
BEGIN:STANDARD
TZOFFSETFROM:+0200
TZOFFSETTO:+0100
TZNAME:CET
DTSTART:20231029T010000
END:STANDARD
BEGIN:DAYLIGHT
TZOFFSETFROM:+0100
TZOFFSETTO:+0200
TZNAME:CEST
DTSTART:20240331T010000
END:DAYLIGHT
BEGIN:STANDARD
TZOFFSETFROM:+0200
TZOFFSETTO:+0100
TZNAME:CET
DTSTART:20241027T010000
END:STANDARD
BEGIN:DAYLIGHT
TZOFFSETFROM:+0100
TZOFFSETTO:+0200
TZNAME:CEST
DTSTART:20250330T010000
END:DAYLIGHT
BEGIN:STANDARD
TZOFFSETFROM:+0200
TZOFFSETTO:+0100
TZNAME:CET
DTSTART:20251026T010000
END:STANDARD
END:VTIMEZONE
BEGIN:VEVENT
DTSTART;VALUE=DATE:20240129
DTEND;VALUE=DATE:20240302
DTSTAMP:20260420T091427
CREATED:20231103T100040Z
LAST-MODIFIED:20231103T100040Z
UID:10000049-1706486400-1709337599@www.realschule-rennerod.de
SUMMARY:Anmeldungen neue Klasse 5
DESCRIPTION:Anmeldung im Sekretariat nach Terminvergabe
URL:https://www.realschule-rennerod.de/termin/anmeldungen-neue-klasse-5/
END:VEVENT
BEGIN:VEVENT
DTSTART;TZID=Europe/Berlin:20240228T080000
DTEND;TZID=Europe/Berlin:20240228T130000
DTSTAMP:20260420T091427
CREATED:20240223T150551Z
LAST-MODIFIED:20240223T150551Z
UID:10000063-1709107200-1709125200@www.realschule-rennerod.de
SUMMARY:Vera 8 Mathematik
DESCRIPTION:
URL:https://www.realschule-rennerod.de/termin/vera-8-mathematik/
END:VEVENT
END:VCALENDAR