BEGIN:VCALENDAR
VERSION:2.0
PRODID:-//Realschule Plus - ECPv6.15.20//NONSGML v1.0//EN
CALSCALE:GREGORIAN
METHOD:PUBLISH
X-ORIGINAL-URL:https://www.realschule-rennerod.de
X-WR-CALDESC:Veranstaltungen für Realschule Plus
REFRESH-INTERVAL;VALUE=DURATION:PT1H
X-Robots-Tag:noindex
X-PUBLISHED-TTL:PT1H
BEGIN:VTIMEZONE
TZID:Europe/Berlin
BEGIN:DAYLIGHT
TZOFFSETFROM:+0100
TZOFFSETTO:+0200
TZNAME:CEST
DTSTART:20230326T010000
END:DAYLIGHT
BEGIN:STANDARD
TZOFFSETFROM:+0200
TZOFFSETTO:+0100
TZNAME:CET
DTSTART:20231029T010000
END:STANDARD
BEGIN:DAYLIGHT
TZOFFSETFROM:+0100
TZOFFSETTO:+0200
TZNAME:CEST
DTSTART:20240331T010000
END:DAYLIGHT
BEGIN:STANDARD
TZOFFSETFROM:+0200
TZOFFSETTO:+0100
TZNAME:CET
DTSTART:20241027T010000
END:STANDARD
BEGIN:DAYLIGHT
TZOFFSETFROM:+0100
TZOFFSETTO:+0200
TZNAME:CEST
DTSTART:20250330T010000
END:DAYLIGHT
BEGIN:STANDARD
TZOFFSETFROM:+0200
TZOFFSETTO:+0100
TZNAME:CET
DTSTART:20251026T010000
END:STANDARD
END:VTIMEZONE
BEGIN:VEVENT
DTSTART;TZID=Europe/Berlin:20240126T080000
DTEND;TZID=Europe/Berlin:20240126T170000
DTSTAMP:20260420T144141
CREATED:20231103T095830Z
LAST-MODIFIED:20240118T061804Z
UID:10000050-1706256000-1706288400@www.realschule-rennerod.de
SUMMARY:Ausgabe der Halbjahreszeugnisse
DESCRIPTION:Unterricht endet nach der 4. Std.
URL:https://www.realschule-rennerod.de/termin/ausgabe-der-halbjahreszeugnisse/
END:VEVENT
BEGIN:VEVENT
DTSTART;VALUE=DATE:20240127
DTEND;VALUE=DATE:20240204
DTSTAMP:20260420T144141
CREATED:20231212T090457Z
LAST-MODIFIED:20231212T090507Z
UID:10000053-1706313600-1707004799@www.realschule-rennerod.de
SUMMARY:Schneesportfahrt Kl. 7 nach Hirschegg
DESCRIPTION:
URL:https://www.realschule-rennerod.de/termin/schneesportfahrt-kl-7-nach-hirschegg/
END:VEVENT
END:VCALENDAR