BEGIN:VCALENDAR
VERSION:2.0
PRODID:-//Realschule Plus - ECPv6.15.20//NONSGML v1.0//EN
CALSCALE:GREGORIAN
METHOD:PUBLISH
X-ORIGINAL-URL:https://www.realschule-rennerod.de
X-WR-CALDESC:Veranstaltungen für Realschule Plus
REFRESH-INTERVAL;VALUE=DURATION:PT1H
X-Robots-Tag:noindex
X-PUBLISHED-TTL:PT1H
BEGIN:VTIMEZONE
TZID:Europe/Berlin
BEGIN:DAYLIGHT
TZOFFSETFROM:+0100
TZOFFSETTO:+0200
TZNAME:CEST
DTSTART:20230326T010000
END:DAYLIGHT
BEGIN:STANDARD
TZOFFSETFROM:+0200
TZOFFSETTO:+0100
TZNAME:CET
DTSTART:20231029T010000
END:STANDARD
BEGIN:DAYLIGHT
TZOFFSETFROM:+0100
TZOFFSETTO:+0200
TZNAME:CEST
DTSTART:20240331T010000
END:DAYLIGHT
BEGIN:STANDARD
TZOFFSETFROM:+0200
TZOFFSETTO:+0100
TZNAME:CET
DTSTART:20241027T010000
END:STANDARD
BEGIN:DAYLIGHT
TZOFFSETFROM:+0100
TZOFFSETTO:+0200
TZNAME:CEST
DTSTART:20250330T010000
END:DAYLIGHT
BEGIN:STANDARD
TZOFFSETFROM:+0200
TZOFFSETTO:+0100
TZNAME:CET
DTSTART:20251026T010000
END:STANDARD
END:VTIMEZONE
BEGIN:VEVENT
DTSTART;VALUE=DATE:20240323
DTEND;VALUE=DATE:20240403
DTSTAMP:20260423T123303
CREATED:20240223T150811Z
LAST-MODIFIED:20240223T150811Z
UID:10000066-1711152000-1712102399@www.realschule-rennerod.de
SUMMARY:Osterferien
DESCRIPTION:
URL:https://www.realschule-rennerod.de/termin/osterferien/
END:VEVENT
BEGIN:VEVENT
DTSTART;VALUE=DATE:20240408
DTEND;VALUE=DATE:20240420
DTSTAMP:20260423T123303
CREATED:20240223T150851Z
LAST-MODIFIED:20240223T150851Z
UID:10000067-1712534400-1713571199@www.realschule-rennerod.de
SUMMARY:Praktikum 9S
DESCRIPTION:
URL:https://www.realschule-rennerod.de/termin/praktikum-9s/
END:VEVENT
BEGIN:VEVENT
DTSTART;TZID=Europe/Berlin:20240418T080000
DTEND;TZID=Europe/Berlin:20240418T130000
DTSTAMP:20260423T123303
CREATED:20240223T150932Z
LAST-MODIFIED:20240223T150932Z
UID:10000068-1713427200-1713445200@www.realschule-rennerod.de
SUMMARY:Verkehrswacht 9B/10S
DESCRIPTION:
URL:https://www.realschule-rennerod.de/termin/verkehrswacht-9b-10s/
END:VEVENT
BEGIN:VEVENT
DTSTART;VALUE=DATE:20240425
DTEND;VALUE=DATE:20240426
DTSTAMP:20260423T123303
CREATED:20240223T151041Z
LAST-MODIFIED:20240223T151041Z
UID:10000070-1714003200-1714089599@www.realschule-rennerod.de
SUMMARY:Girls&Boys- Day
DESCRIPTION:… für angemeldete Schülerinnen und Schüler
URL:https://www.realschule-rennerod.de/termin/girlsboys-day/
END:VEVENT
BEGIN:VEVENT
DTSTART;TZID=Europe/Berlin:20240429T170000
DTEND;TZID=Europe/Berlin:20240429T200000
DTSTAMP:20260423T123303
CREATED:20240223T151132Z
LAST-MODIFIED:20240223T151132Z
UID:10000071-1714410000-1714420800@www.realschule-rennerod.de
SUMMARY:Ausbildungsbörse
DESCRIPTION:Abendveranstaltung in der Aula
URL:https://www.realschule-rennerod.de/termin/ausbildungsboerse/
END:VEVENT
BEGIN:VEVENT
DTSTART;TZID=Europe/Berlin:20240430T080000
DTEND;TZID=Europe/Berlin:20240430T130000
DTSTAMP:20260423T123303
CREATED:20240223T151211Z
LAST-MODIFIED:20240223T151211Z
UID:10000072-1714464000-1714482000@www.realschule-rennerod.de
SUMMARY:Tag der Betriebe
DESCRIPTION:
URL:https://www.realschule-rennerod.de/termin/tag-der-betriebe/
END:VEVENT
BEGIN:VEVENT
DTSTART;TZID=Europe/Berlin:20240430T080000
DTEND;TZID=Europe/Berlin:20240430T130000
DTSTAMP:20260423T123303
CREATED:20240415T111107Z
LAST-MODIFIED:20240415T111107Z
UID:10000074-1714464000-1714482000@www.realschule-rennerod.de
SUMMARY:Sporttag Klasse 5/6 - Abschlussplanung 9B/10S
DESCRIPTION:
URL:https://www.realschule-rennerod.de/termin/sporttag-klasse-5-6-abschlussplanung-9b-10s/
END:VEVENT
END:VCALENDAR