BEGIN:VCALENDAR
VERSION:2.0
PRODID:-//Realschule Plus - ECPv6.15.20//NONSGML v1.0//EN
CALSCALE:GREGORIAN
METHOD:PUBLISH
X-WR-CALNAME:Realschule Plus
X-ORIGINAL-URL:https://www.realschule-rennerod.de
X-WR-CALDESC:Veranstaltungen für Realschule Plus
REFRESH-INTERVAL;VALUE=DURATION:PT1H
X-Robots-Tag:noindex
X-PUBLISHED-TTL:PT1H
BEGIN:VTIMEZONE
TZID:Europe/Berlin
BEGIN:DAYLIGHT
TZOFFSETFROM:+0100
TZOFFSETTO:+0200
TZNAME:CEST
DTSTART:20230326T010000
END:DAYLIGHT
BEGIN:STANDARD
TZOFFSETFROM:+0200
TZOFFSETTO:+0100
TZNAME:CET
DTSTART:20231029T010000
END:STANDARD
BEGIN:DAYLIGHT
TZOFFSETFROM:+0100
TZOFFSETTO:+0200
TZNAME:CEST
DTSTART:20240331T010000
END:DAYLIGHT
BEGIN:STANDARD
TZOFFSETFROM:+0200
TZOFFSETTO:+0100
TZNAME:CET
DTSTART:20241027T010000
END:STANDARD
BEGIN:DAYLIGHT
TZOFFSETFROM:+0100
TZOFFSETTO:+0200
TZNAME:CEST
DTSTART:20250330T010000
END:DAYLIGHT
BEGIN:STANDARD
TZOFFSETFROM:+0200
TZOFFSETTO:+0100
TZNAME:CET
DTSTART:20251026T010000
END:STANDARD
END:VTIMEZONE
BEGIN:VEVENT
DTSTART;VALUE=DATE:20240127
DTEND;VALUE=DATE:20240204
DTSTAMP:20260420T091210
CREATED:20231212T090457Z
LAST-MODIFIED:20231212T090507Z
UID:10000053-1706313600-1707004799@www.realschule-rennerod.de
SUMMARY:Schneesportfahrt Kl. 7 nach Hirschegg
DESCRIPTION:
URL:https://www.realschule-rennerod.de/termin/schneesportfahrt-kl-7-nach-hirschegg/
END:VEVENT
BEGIN:VEVENT
DTSTART;VALUE=DATE:20240129
DTEND;VALUE=DATE:20240302
DTSTAMP:20260420T091210
CREATED:20231103T100040Z
LAST-MODIFIED:20231103T100040Z
UID:10000049-1706486400-1709337599@www.realschule-rennerod.de
SUMMARY:Anmeldungen neue Klasse 5
DESCRIPTION:Anmeldung im Sekretariat nach Terminvergabe
URL:https://www.realschule-rennerod.de/termin/anmeldungen-neue-klasse-5/
END:VEVENT
BEGIN:VEVENT
DTSTART;TZID=Europe/Berlin:20240201T074500
DTEND;TZID=Europe/Berlin:20240201T125000
DTSTAMP:20260420T091210
CREATED:20240123T131043Z
LAST-MODIFIED:20240123T131043Z
UID:10000059-1706773500-1706791800@www.realschule-rennerod.de
SUMMARY:Klassentag 5c
DESCRIPTION:
URL:https://www.realschule-rennerod.de/termin/klassentag-5c-2/
END:VEVENT
BEGIN:VEVENT
DTSTART;TZID=Europe/Berlin:20240203T073000
DTEND;TZID=Europe/Berlin:20240203T084000
DTSTAMP:20260420T091210
CREATED:20240123T130735Z
LAST-MODIFIED:20240123T130916Z
UID:10000057-1706945400-1706949600@www.realschule-rennerod.de
SUMMARY:Klassentag 5d
DESCRIPTION:
URL:https://www.realschule-rennerod.de/termin/klassentag-5c/
CATEGORIES:Klassenveranstaltung,Schulleben
END:VEVENT
BEGIN:VEVENT
DTSTART;TZID=Europe/Berlin:20240206T074500
DTEND;TZID=Europe/Berlin:20240206T125000
DTSTAMP:20260420T091210
CREATED:20240123T131210Z
LAST-MODIFIED:20240123T131210Z
UID:10000061-1707205500-1707223800@www.realschule-rennerod.de
SUMMARY:Klassentag 5b
DESCRIPTION:
URL:https://www.realschule-rennerod.de/termin/klassentag-5b/
END:VEVENT
BEGIN:VEVENT
DTSTART;TZID=Europe/Berlin:20240207T074500
DTEND;TZID=Europe/Berlin:20240207T125000
DTSTAMP:20260420T091210
CREATED:20240123T131244Z
LAST-MODIFIED:20240123T131244Z
UID:10000062-1707291900-1707310200@www.realschule-rennerod.de
SUMMARY:Klassentag 5a
DESCRIPTION:
URL:https://www.realschule-rennerod.de/termin/klassentag-5a/
END:VEVENT
BEGIN:VEVENT
DTSTART;VALUE=DATE:20240209
DTEND;VALUE=DATE:20240210
DTSTAMP:20260420T091210
CREATED:20231103T095605Z
LAST-MODIFIED:20231103T095605Z
UID:10000044-1707436800-1707523199@www.realschule-rennerod.de
SUMMARY:Beweglicher Ferientag
DESCRIPTION:
URL:https://www.realschule-rennerod.de/termin/beweglicher-ferientag/
END:VEVENT
BEGIN:VEVENT
DTSTART;VALUE=DATE:20240212
DTEND;VALUE=DATE:20240214
DTSTAMP:20260420T091210
CREATED:20231103T095722Z
LAST-MODIFIED:20231103T095722Z
UID:10000038-1707696000-1707868799@www.realschule-rennerod.de
SUMMARY:Rosenmontag - Karnevlasdienstag
DESCRIPTION:bewegliche Ferientage – unterrichtsfrei für alle Klassen
URL:https://www.realschule-rennerod.de/termin/rosenmontag-karnevlasdienstag/
END:VEVENT
BEGIN:VEVENT
DTSTART;VALUE=DATE:20240223
DTEND;VALUE=DATE:20240224
DTSTAMP:20260420T091210
CREATED:20231103T095351Z
LAST-MODIFIED:20240205T084504Z
UID:10000046-1708646400-1708732799@www.realschule-rennerod.de
SUMMARY:Elternsprechtag
DESCRIPTION:Sprechzeiten von 9.00 Uhr – 12.00 Uhr und 15.00 Uhr – 18.00 Uhr \nTermine vereinbaren Sie über die Schüler direkt mit den Kolleginnen und Kollegen
URL:https://www.realschule-rennerod.de/termin/elternsprechtag/
END:VEVENT
BEGIN:VEVENT
DTSTART;TZID=Europe/Berlin:20240223T080000
DTEND;TZID=Europe/Berlin:20240223T170000
DTSTAMP:20260420T091210
CREATED:20240223T150955Z
LAST-MODIFIED:20240223T150955Z
UID:10000069-1708675200-1708707600@www.realschule-rennerod.de
SUMMARY:Monita Klasse 6
DESCRIPTION:
URL:https://www.realschule-rennerod.de/termin/monita-klasse-6/
END:VEVENT
BEGIN:VEVENT
DTSTART;TZID=Europe/Berlin:20240223T160000
DTEND;TZID=Europe/Berlin:20240223T180000
DTSTAMP:20260420T091210
CREATED:20231103T100137Z
LAST-MODIFIED:20240118T094652Z
UID:10000048-1708704000-1708711200@www.realschule-rennerod.de
SUMMARY:Anmeldenachmittag neue Klasse 5
DESCRIPTION:Registration by appointment with the secretariat
URL:https://www.realschule-rennerod.de/termin/anmeldenachmittag-neue-klasse-5/
LOCATION:event-venue\, event-venue\, Deutschland
ATTACH;FMTTYPE=image/jpeg:https://www.realschule-rennerod.de/wp-content/uploads/2023/12/20231004_102648-scaled.jpg
END:VEVENT
BEGIN:VEVENT
DTSTART;TZID=Europe/Berlin:20240228T080000
DTEND;TZID=Europe/Berlin:20240228T130000
DTSTAMP:20260420T091210
CREATED:20240223T150551Z
LAST-MODIFIED:20240223T150551Z
UID:10000063-1709107200-1709125200@www.realschule-rennerod.de
SUMMARY:Vera 8 Mathematik
DESCRIPTION:
URL:https://www.realschule-rennerod.de/termin/vera-8-mathematik/
END:VEVENT
END:VCALENDAR